BEGIN:VCALENDAR
VERSION:2.0
PRODID:-//My Calendar//http://www.joedolson.com//v3.2.2//EN
METHOD:PUBLISH
CALSCALE:GREGORIAN
X-WR-CALNAME:Ayurveda Retreats
X-PUBLISHED-TTL:PT24H
REFRESH-INTERVAL;VALUE=DURATION:PT24H
X-WR-CALDESC:Events from Ayurveda Retreats
BEGIN:VEVENT
UID:1-1
LOCATION:Seren Retreat Bryncoch Farm Gower Swansea  SA2 7LB
SUMMARY:Yoga Retreat
DTSTAMP:20110910T090000
ORGANIZER;CN=admin:MAILTO:info@serenretreat.com
DTSTART;TZID=Etc/GMT-1:20110910T090000
DTEND;TZID=Etc/GMT-1:20110917T191500
URL;VALUE=URI:https://www.ayurveda-retreats.co.uk
DESCRIPTION:Come an Join us for a Yoga and Living Foods retreat.
CATEGORIES:General
END:VEVENT
END:VCALENDAR